BEGIN:VCALENDAR
VERSION:2.0
PRODID:-//RoadRoom - ECPv6.15.16//NONSGML v1.0//EN
CALSCALE:GREGORIAN
METHOD:PUBLISH
X-ORIGINAL-URL:https://roadroom.de
X-WR-CALDESC:Events for RoadRoom
REFRESH-INTERVAL;VALUE=DURATION:PT1H
X-Robots-Tag:noindex
X-PUBLISHED-TTL:PT1H
BEGIN:VTIMEZONE
TZID:Europe/Berlin
BEGIN:DAYLIGHT
TZOFFSETFROM:+0100
TZOFFSETTO:+0200
TZNAME:CEST
DTSTART:20260329T010000
END:DAYLIGHT
BEGIN:STANDARD
TZOFFSETFROM:+0200
TZOFFSETTO:+0100
TZNAME:CET
DTSTART:20261025T010000
END:STANDARD
BEGIN:DAYLIGHT
TZOFFSETFROM:+0100
TZOFFSETTO:+0200
TZNAME:CEST
DTSTART:20270328T010000
END:DAYLIGHT
BEGIN:STANDARD
TZOFFSETFROM:+0200
TZOFFSETTO:+0100
TZNAME:CET
DTSTART:20271031T010000
END:STANDARD
BEGIN:DAYLIGHT
TZOFFSETFROM:+0100
TZOFFSETTO:+0200
TZNAME:CEST
DTSTART:20280326T010000
END:DAYLIGHT
BEGIN:STANDARD
TZOFFSETFROM:+0200
TZOFFSETTO:+0100
TZNAME:CET
DTSTART:20281029T010000
END:STANDARD
END:VTIMEZONE
BEGIN:VEVENT
DTSTART;TZID=Europe/Berlin:20270709T000000
DTEND;TZID=Europe/Berlin:20270721T235959
DTSTAMP:20260422T111400
CREATED:20260302T233018Z
LAST-MODIFIED:20260309T191916Z
UID:7406-1815091200-1816214399@roadroom.de
SUMMARY:Island
DESCRIPTION:Fire meets Ice\n\n\n\n\n\n\n\nSeljalandsfoss Waterfall\, Landmannalaugar\, Reynisfjara Beach\, Jökulsárlón Glacier Lagoon\, Westfjords\n\n\n\nTour buchen!\n\n\n\n\n\n\n\n\n\n\n\n\n\n\n\nDAUER13 TAGE11 FAHRTAGE \n\n\n\n\n\n\n\n\n\n\n\nKM3.500 \n\n\n\n\n\n\n\n\n\n\n\nETAPPEN5–7 STUNDEN \n\n\n\n\n\n\n\n\n\n\n\nLEVELFORTGESCHRITTEN \n\n\n\n\n\n\n\n\n\n\n\nGRUPPE6–9 PERSONEN \n\n\n\n\n\n\n\n\n\n\n\nSTRASSE75 % ASPAHLTDU MUSST AUF SCHOTTER SICHER SEIN \n\n\n\n\n\nBegleiten Sie uns auf einer spannenden 13-tägigen Motorradtour durch Islands atemberaubende Landschaften. Erleben Sie majestätische Wasserfälle\, geothermische Wunder\, raue Fjorde und die rohe Schönheit von Landmannalaugar. Dieses Abenteuer erfordert Geschick\, Ausdauer und eine Leidenschaft für ein einzigartiges Fahrerlebnis. Wagen Sie es\, eine unvergessliche\, epische Saga zu erleben. \n\n\n\n\n\n\n\n\n\n\n\n\n\nDie ultimative Motorradtour durch Island für Abenteuersuchende.\n\n\n\nBereiten Sie sich auf eine außergewöhnliche Reise vor\, während wir Island auf Ihrem eigenen Motorrad erkunden. Dieses Abenteuer beginnt in Reykjavik\, Islands pulsierender Hauptstadt. Bei Ihrer Ankunft steht Ihr Motorrad im Hotel für Sie bereit\, um die Insel aus Feuer und Eis zu erobern. \n\n\n\nWir werden Islands Ringstraße befahren und unterwegs atemberaubende Sehenswürdigkeiten erleben. Vom Großartigen des Þingvellir Nationalparks über die bezaubernden Wasserfälle Seljalandsfoss und Skógafoss bis hin zum geothermischen Wunderland von Landmannalaugar verspricht jeder Tag neue Wunder. Unsere Reise führt uns zur Gletscherlagune Jökulsárlón\, durch die rauen Landschaften von Skaftafell\, in die ruhigen Westfjorde und schließlich zur wohltuenden Blauen Lagune. \n\n\n\nDas ständig wechselnde Wetter Islands\, einschließlich Regen\, Wind und gelegentlicher vulkanischer Aktivität\, erfordert Erfahrung\, Widerstandsfähigkeit und Anpassungsfähigkeit. Die Temperaturen liegen zwischen 5 und 20 Grad\, und die täglichen Strecken können\, oft auf Schotterstraßen\, herausfordernd sein. Doch gerade diese Herausforderungen machen jeden Kilometer zu einem persönlichen Sieg und tragen zum Reiz des Abenteuers bei. \n\n\n\nJede Tagesetappe endet in komfortablen Unterkünften\, ausgewählt wegen ihres Charmes\, ihrer Qualität und der isländischen Gastfreundschaft. Nachdem Sie Ihre Erlebnisse des Tages mit anderen Fahrern geteilt haben\, finden Sie Ruhe in der Stille der isländischen Nächte. \n\n\n\nDiese Tour geht nicht nur darum\, Punkte abzuhaken; es geht darum\, einen Traum zu leben\, Verbindungen zu knüpfen und ein einzigartiges Land zu erleben. Begleiten Sie uns und lassen Sie sich von Islands Landschaften\, endlosen Himmeln und dem Nervenkitzel der offenen Straße zum Abenteuergeist wecken. Sind Sie bereit für diese unglaubliche Reise? Dies ist nicht nur eine Motorradtour; es ist Ihre Geschichte\, die darauf wartet\, erzählt zu werden. Sind Sie bereit für die Fahrt Ihres Lebens? \n\n\n\n\n\n\n\nUnterwegs auf der Isländischen Ringstraße.\n\n\n\nWir begeben uns auf eine unvergessliche Reise\, während wir die gesamte Insel durchqueren und dabei Islands vielfältige Landschaften und faszinierende Kultur erleben.\n\n\n\n\n\n\n\n\n\n\n\nWie läuft die Motorradtour mit einem Guide ab?\n\n\n\nWir starten täglich um 10 Uhr\, Ankunft spätestens 18 Uhr. Fahrzeit ca. 5–6 Stunden\, verteilt auf viele kleine und drei größere Pausen. Die Routen sind kurvig und teils anspruchsvoll\, aber stressfrei fahrbar: Wir achten auf Sicherheitsabstände und einen entspannten Flow. \n\n\n\nMehr Infos findest du in den FAQs oder direkt bei uns. \n\n\n\n\nzum FAQ-Bereich\n\n\n\n\n\n\n\nZum Ablauf\nCa. 12 Tage vor dem Hinflug holen wir dein Motorrad und Gepäck zu Hause ab und transportieren es nach Reykjavik. Dort deponieren wir es in der Hotelgarage in der Nähe des Flughafens. Dein Flug geht nur mit Handgepäck. And the adventure begins! \n\n\n\n\nAnreise\n\nca. 12 Tage vor Hinflug\, Verladen von Motorräder und Gepäck\n\n\n\nanschließend Motorradtransport zum Startpunkt\n\n\n\n1. Tag Anreise und Flug \n\n\n\nTourstart am 2. Tag um 10 Uhr\n\n\n\n\n\nRückreise\n\n12. Tag ca. 18.00 Uhr Ankunft am Hotel \n\n\n\n13. Tag\, Rückflug \n\n\n\nMotorradtransport nach Deutschland\n\n\n\nca 10 Tage nach Rückflug Anlieferung von Motorräder und Gepäck\n\n\n\n\n\n\n\n\n\n\nPreise\n\n\n\n\n\n\n\nFahrer im DZ \n\n\n\n5.750 €\n\n\n\n\nbuchen\n\n\n\n\n\nMotorradtransport nach Reykjavik\n\n\n\nFlug nach Reykjavik und zurück\n\n\n\n12 x ÜN im DZ + Frühstück im Hotel (3 und 4 Sterne)\n\n\n\nLokaler Guide + GPX Daten\n\n\n\nParkgebühren\n\n\n\n\n\n\nFahrer im EZ \n\n\n\n+1.500 €\n\n\n\n\nbuchen\n\n\n\n\n\nalles wie im Basispreis\n\n\n\nÜbernachtung im Einzelzimmer\n\n\n\n\n\n\nSozius im DZ \n\n\n\n3.250 €\n\n\n\n\nbuchen\n\n\n\n\n\nFlug nach Reykjavik und zurück\n\n\n\n12 x ÜN im DZ + Frühstück im Hotel (3 und 4 Sterne)\n\n\n\n\n\n\nMotorrad-Transport \n\n\n\n+50 / +100 €\n\n\n\n\nbuchen\n\n\n\n\n\nAbholstationen: Herbolzheim\, Nordhorn\, Hannover oder Eberswalde\n\n\n\n+ 50 € innerhalb von 100km um o.g. Abholstation\n\n\n\n+ 100 € außerhalb von 100km um o.g. Abholstation\n\n\n\n\n\n\n\n\n\n\nDiese Tour beinhaltet:\n\n\n\n\n\n\n\n\n\n\n\nMotorrad-Transport\n\n\n\nVerladeorte: Herbolzheim\, Nordhorn\, Hannover\, Eberswalde\, Augsburg.  \n\n\n\nOptional Hausabholung:+50 € pro Strecke (bis 100 km vom Abholpunkt bzw. entlang der Route)+100 € pro Strecke (>100 km) \n\n\n\n \n\n\n\n\n\n\n\n\n\nGuide\n\n\n\nDein Tourguide kennt alle Strecken und die besten Orte – fahre sicher mit seiner Erfahrung. \n\n\n\nGPX-Dateien\n\n\n\nDie Tagesabschnitte sind mit Sorgfalt geplant und werden dir digital zur Verfügung gestellt \n\n\n\n\n\n\n\n\n\nÜbernachtungen\n\n\n\nSorgfältig ausgewählte 3–4 Sterne-Hotels mit gemütlichen Zimmern\, Komfort und Top-Lage. \n\n\n\nKulinarik\n\n\n\nRegionale Highlights in ausgewählten Restaurants – optional gemeinsames Essen mit der Gruppe. \n\n\n\n\n\n\n\n\n\nFlugbuchung\n\n\n\nWir organisieren Flug und Check-in ab Berlin\, Amsterdam\, Düsseldorf\, Frankfurt oder München; weitere Verbindungen sind gegen Aufpreis organisierbar.  \n\n\n\nGoodie Bag\n\n\n\nJeder Teilnehmer bekommt ein kleines Geschenk mit Stickern und einer Tasse. \n\n\n\n\n\n\nLos geht’s!\n\n\n\nDu bist nur einen Schritt entfernt vom Abenteuer deines Lebens! Füll einfach dieses Formular aus\, um weitere Informationen zu unserer geführten Motorradtour zu erhalten oder um direkt zu buchen. \n\n\n\n\n\n  \n\n\n\n Dein Name*\n\n\n \n Deine E-Mail-Adresse*\n\n\n \n Deine Telefonnummer*\n\n\n \n Um welche Tour geht es?\nGeführte Touren allgemeinSelbstgeführte Touren allgemeinAndalusien & SüdportugalBalkanBarcelona–MalagaChile & ArgentinienIrland & SchottlandIslandKanarische InselnMalaga–BarcelonaMarokkoMarokko 2027Picos de EuropaPyrenäenSardinienSardinien & KorsikaSchweiz\n\n \n Nachricht\n\n\n \n\n Δ \n\n\n\n\n\n\n\n\n\nDein Guide\n\n\n\n\n\nStartpunkt\n\n\n\n\n\n\n\n\n\n\n\nWeitere Touren\n\n\n\n\n	\n		\n\n			\n			\n\n			\n			\n				\n											\n\n	\n	\n		\n			Jul		\n		\n			9		\n	\n\n\n	\n		\n			\n\n				\n					\n		\n		9. July 2027 bis 21. July 2027	\n	\n					\n	\n		Island	\n\n				\n\n				\n			\n		\n	\n\n\n											\n\n	\n	\n		\n			Sep		\n		\n			3		\n	\n\n\n	\n		\n			\n\n				\n					\n		\n		3. September 2027 bis 16. September 2027	\n	\n					\n	\n		Irland und Schottland	\n\n				\n\n				\n			\n		\n	\n\n\n									\n\n				\n	\n		View Calendar
URL:https://roadroom.de/tour/island/
LOCATION:Reykjavik\, Reykjavik\, Iceland
CATEGORIES:Europa \ Nord
ATTACH;FMTTYPE=image/jpeg:https://roadroom.de/wp-content/uploads/2023/12/Island-Motorradtour-Motorradreise-Motorradtransport-RoadRoom-DSC01988-scaled.jpg
ORGANIZER;CN="Andr%C3%A9 Schiefelbein":MAILTO:a.schiefelbein@roadroom.de
END:VEVENT
BEGIN:VEVENT
DTSTART;TZID=Europe/Berlin:20270903T000000
DTEND;TZID=Europe/Berlin:20270916T235959
DTSTAMP:20260422T111400
CREATED:20260302T215121Z
LAST-MODIFIED:20260328T092414Z
UID:7377-1819929600-1821139199@roadroom.de
SUMMARY:Irland und Schottland
DESCRIPTION:Highland Flow: Irlands Küsten\, Schottlands Berge\n\n\n\n\n\n\n\nFreiheit zwischen Atlantik\, Highlands und Legenden\n\n\n\nTour buchen!\n\n\n\n\n\n\n\n\n\n\n\n\n\n\n\nDAUER14 TAGE12 FAHRTAGE \n\n\n\n\n\n\n\n\n\n\n\nKM3.500 km \n\n\n\n\n\n\n\n\n\n\n\nETAPPEN5–7 STUNDEN \n\n\n\n\n\n\n\n\n\n\n\nLEVELFORTGESCHRITTEN \n\n\n\n\n\n\n\n\n\n\n\nGRUPPE8–12 PERSONEN \n\n\n\n\n\n\n\n\n\n\n\nSTRASSE95% ASPHALT\, SEHR KURVENREICH\, ANSPRUCHSVOLL \n\n\n\n\n\nBegib dich auf ein episches Abenteuer auf zwei Rädern durch das raue und romantische Irland. Erkunde alte Burgen\, fahre durch nebelverhangene Täler und entdecke die Geheimnisse der schottischen Highlands. Dies ist nicht nur eine Reise\, es ist ein Erlebnis\, das deine Seele berührt und Erinnerungen schafft\, die ein Leben lang halten. \n\n\n\n\n\n\n\n\n\n\n\n\n\nMotorradtour Irland & Schottland – Freiheit zwischen Atlantik\, Highlands und Legenden\n\n\n\nDiese Motorradtour durch Irland und Schottland ist mehr als eine Reise – sie ist ein Erlebnis für alle Sinne. Dich erwarten kurvenreiche Küstenstraßen\, einsame Hochlandpässe\, sattgrüne Landschaften und ein Gefühl von Freiheit\, das man nur auf dem Motorrad erlebt. \n\n\n\nIn Irland fahren wir entlang wilder Atlantikrouten\, vorbei an schroffen Klippen\, endlosen Weiden und kleinen Pubs\, in denen die Zeit stehen geblieben scheint. Der Duft von Meer\, Wind und Abenteuer begleitet jede Etappe. Schottland empfängt uns mit majestätischen Highlands\, tiefen Seen\, mystischen Burgen und Straßen\, die wie gemacht sind für Motorradfahrer. \n\n\n\nUnsere sorgfältig ausgearbeitete Route verbindet fahrerischen Genuss mit authentischen Momenten. Du übernachtest in ausgewählten Unterkünften\, genießt regionale Küche und hast genug Zeit\, Landschaft und Kultur intensiv zu erleben – ohne Stress\, aber mit maximalem Fahrspaß. \n\n\n\nOb du die Einsamkeit der Highlands suchst\, das raue Küstengefühl liebst oder einfach unvergessliche Tage auf zwei Rädern erleben willst: Diese Motorradtour durch Irland und Schottland steht für Abenteuer\, Gemeinschaft und echtes RoadRoom-Feeling. \n\n\n\nSteig auf\, lass den Alltag zurück – und erlebe eine Reise\, die bleibt. \n\n\n\n\n\n\n\nDie Route über die zwei Inseln\n\n\n\nDiese Karte skizziert nur den Anfang eines außergewöhnlichen Motorradabenteuers\, das erst durch Irland und dann durch Schottlands spektakuläre Highlands führt. Start und Ziel ist Dublin. \n\n\n\nDeine Route zum Abenteuer: Folge unserer sorgfÃ¤ltig geplanten Strecke durch Nordportugal bis zu den atemberaubenden Picos de Europa\n\n\n\n\n\n\n\nWie läuft die Motorradtour mit einem Guide ab?\n\n\n\nWir starten täglich um 10 Uhr\, Ankunft spätestens 18 Uhr. Fahrzeit ca. 5–6 Stunden\, verteilt auf viele kleine und drei größere Pausen. Die Routen sind kurvig und teils anspruchsvoll\, aber stressfrei fahrbar: Wir achten auf Sicherheitsabstände und einen entspannten Flow. \n\n\n\nMehr Infos findest du in den FAQs oder direkt bei uns. \n\n\n\n\nzum FAQ-Bereich\n\n\n\n\n\n\n\nZum Ablauf\nCa. 10 Tage vor dem Hinflug holen wir dein Motorrad und Gepäck zu Hause ab und transportieren es nach Dublin. Dort deponieren wir es in der Hotelgarage in der Nähe des Flughafens. Dein Flug geht nur mit Handgepäck. Wir holen dich in Dublin vom Flughafen ab und bringen dich zur Garage\, wo dein Motorrad auf dich wartet. And the adventure begins! \n\n\n\nTourverlauf \n\n\n\n\nTag 1 – Ankunft in Dublin\, Übergabe Motorräder und Gepäck am Hotel\n\n\n\nTag 2 – Tour an der Küste entlang\, Übernachtung in Killarney\n\n\n\nTag 3 – Tour nach Galway\n\n\n\nTag 4 – Tour nach Sligo\n\n\n\nTag 5 – Tour über Donegal nach London Derry\n\n\n\nTag 6 – Tour über die Küstenstrasse nach Belfast\n\n\n\nTag 7 – Fährüberfahrt Belfast – Cainryan und Tour nach Greenrock\n\n\n\nTag 8 – Tour nach Applecross\n\n\n\nTag 9 – Ruhetag oder Tagestour um Applecross\n\n\n\nTag 10 – Tour nach Inverness\n\n\n\nTag 11 – Tour nach Edinburgh\n\n\n\nTag 12 – Tour nach Holyhead\n\n\n\nTag 13 – Fähre Holyhead – Dublin und fahrt zum Hotel\n\n\n\nTag 14 – Rückflug von Dublin\n\n\n\n\n\nAnreise\n\nca. 10 Tage vor Hinflug\, Verladen von  Motorrädern und Gepäck\n\n\n\nanschließend Motorradtransport zum Startpunkt\n\n\n\n1. Tag Anreise\n\n\n\nTourstart am 2. Tag um 10 Uhr\n\n\n\n\n\nRückreise\n\n13. Tag ca. 18.00 Uhr Ankunft am Hotel \n\n\n\n14. Tag\, Rückflug \n\n\n\nMotorradtransport nach Deutschland\n\n\n\nca 10 Tage nach Rückflug Anlieferung von Motorräder und Gepäck\n\n\n\n\n\n\n\n\n\n\nPreise\n\n\n\n\n\n\n\nFahrer im DZ \n\n\n\n4.450 €\n\n\n\n\nbuchen\n\n\n\n\n\nMotorradtransport nach Dublin\n\n\n\nFlug nach Dublin und zurück\n\n\n\n13 x ÜN im DZ + Frühstück im Hotel (3 und 4 Sterne)\n\n\n\nLokaler Guide + GPX Daten\n\n\n\nParkgebühren\n\n\n\n\n\n\nFahrer im EZ \n\n\n\n+1.170 €\n\n\n\n\nbuchen\n\n\n\n\n\nalles wie Basispreis\n\n\n\nÜbernachtung im Einzelzimmer\n\n\n\n\n\n\nSozius im DZ \n\n\n\n2.650 €\n\n\n\n\nbuchen\n\n\n\n\n\nFlug nach Dublin und zurück\n\n\n\n13 x ÜN im DZ + Frühstück im Hotel (3 und 4 Sterne)\n\n\n\n\n\n\nMotorrad-Transport \n\n\n\n+50 / +100 €\n\n\n\n\nbuchen\n\n\n\n\n\nAbholstationen: Herbolzheim\, Nordhorn\, Hannover oder Eberswalde\n\n\n\n+ 50 € innerhalb von 100km um o.g. Abholstation\n\n\n\n+ 100 € außerhalb von 100km um o.g. Abholstation\n\n\n\n\n\n\n\n\n\n\nDiese Tour beinhaltet:\n\n\n\n\n\n\n\n\n\n\n\nMotorrad-Transport\n\n\n\nVerladeorte: Herbolzheim\, Nordhorn\, Hannover\, Eberswalde\, Augsburg.  \n\n\n\nOptional Hausabholung:+50 € pro Strecke (bis 100 km vom Abholpunkt bzw. entlang der Route)+100 € pro Strecke (>100 km) \n\n\n\n \n\n\n\n\n\n\n\n\n\nGuide\n\n\n\nDein Tourguide kennt alle Strecken und die besten Orte – fahre sicher mit seiner Erfahrung. \n\n\n\nGPX-Dateien\n\n\n\nDie Tagesabschnitte sind mit Sorgfalt geplant und werden dir digital zur Verfügung gestellt \n\n\n\n\n\n\n\n\n\nÜbernachtungen\n\n\n\nSorgfältig ausgewählte 3–4 Sterne-Hotels mit gemütlichen Zimmern\, Komfort und Top-Lage. \n\n\n\nKulinarik\n\n\n\nRegionale Highlights in ausgewählten Restaurants – optional gemeinsames Essen mit der Gruppe. \n\n\n\n\n\n\n\n\n\nFlugbuchung\n\n\n\nWir organisieren Flug und Check-in ab Berlin\, Amsterdam\, Düsseldorf\, Frankfurt oder München; weitere Verbindungen sind gegen Aufpreis organisierbar.  \n\n\n\nGoodie Bag\n\n\n\nJeder Teilnehmer bekommt ein kleines Geschenk mit Stickern und einer Tasse. \n\n\n\n\n\n\nLos geht’s!\n\n\n\nDu bist nur einen Schritt entfernt vom Abenteuer deines Lebens! Füll einfach dieses Formular aus\, um weitere Informationen zu unserer geführten Motorradtour zu erhalten oder um direkt zu buchen. \n\n\n\n\n\n  \n\n\n\n Dein Name*\n\n\n \n Deine E-Mail-Adresse*\n\n\n \n Deine Telefonnummer*\n\n\n \n Um welche Tour geht es?\nGeführte Touren allgemeinSelbstgeführte Touren allgemeinAndalusien & SüdportugalBalkanBarcelona–MalagaChile & ArgentinienIrland & SchottlandIslandKanarische InselnMalaga–BarcelonaMarokkoMarokko 2027Picos de EuropaPyrenäenSardinienSardinien & KorsikaSchweiz\n\n \n Nachricht\n\n\n \n\n Δ \n\n\n\n\n\n\n\n\n\nDein Guide\n\n\n\n\n\nStartpunkt\n\n\n\n\n\n\n\n\n\n\n\nWeitere Touren\n\n\n\n\n	\n		\n\n			\n			\n\n			\n			\n				\n											\n\n	\n	\n		\n			Jul		\n		\n			9		\n	\n\n\n	\n		\n			\n\n				\n					\n		\n		9. July 2027 bis 21. July 2027	\n	\n					\n	\n		Island	\n\n				\n\n				\n			\n		\n	\n\n\n											\n\n	\n	\n		\n			Sep		\n		\n			3		\n	\n\n\n	\n		\n			\n\n				\n					\n		\n		3. September 2027 bis 16. September 2027	\n	\n					\n	\n		Irland und Schottland	\n\n				\n\n				\n			\n		\n	\n\n\n									\n\n				\n	\n		View Calendar
URL:https://roadroom.de/tour/irland-und-schottland/
LOCATION:Dublin\, Dublin\, Ireland
CATEGORIES:Europa \ Nord
ATTACH;FMTTYPE=image/jpeg:https://roadroom.de/wp-content/uploads/2026/02/an-aerial-shot-of-a-castle-beside.jpg
ORGANIZER;CN="Andr%C3%A9 Schiefelbein":MAILTO:a.schiefelbein@roadroom.de
END:VEVENT
END:VCALENDAR